BEGIN:VCALENDAR
VERSION:2.0
PRODID:-//Circus in Education - ECPv4.6.11.1//NONSGML v1.0//EN
CALSCALE:GREGORIAN
METHOD:PUBLISH
X-WR-CALNAME:Circus in Education
X-ORIGINAL-URL:http://circusineducation.com.au
X-WR-CALDESC:Events for Circus in Education
BEGIN:VEVENT
DTSTART;TZID=UTC+0:20171027T080000
DTEND;TZID=UTC+0:20180331T170000
DTSTAMP:20180224T100852
CREATED:20171007T110505Z
LAST-MODIFIED:20171007T110954Z
UID:2646-1509091200-1522515600@circusineducation.com.au
SUMMARY:Circus Play Space features in Cinema Under the Stars Tour
DESCRIPTION:Come along to any of the 16 Cinema Under the Stars events across NSW and find our Circus Play Space offering a colorful array of circus activities. Thanks to Newcastle Permanent Bank for putting on this fantastic community event once again. \n
URL:http://circusineducation.com.au/event/circus-play-space-features-cinema-stars-tour/
ATTACH;FMTTYPE=image/jpeg:http://circusineducation.com.au/wp-content/uploads/2017/10/circus-space-girls.jpg
END:VEVENT
BEGIN:VEVENT
DTSTART;VALUE=DATE:20180406
DTEND;VALUE=DATE:20180407
DTSTAMP:20180224T100852
CREATED:20180220T102304Z
LAST-MODIFIED:20180220T102304Z
UID:2744-1522972800-1523059199@circusineducation.com.au
SUMMARY:Snore's Small Vacation Care Incursion at South Coogee OSHC
DESCRIPTION:Our brand new Sydney based vacation care circus incursion is now available for the April School Holidays. Contact us for more information! \n
URL:http://circusineducation.com.au/event/snores-small-vacation-care-incursion-south-coogee-oshc/
ATTACH;FMTTYPE=image/jpeg:http://circusineducation.com.au/wp-content/uploads/2018/02/George.jpg
END:VEVENT
BEGIN:VEVENT
DTSTART;VALUE=DATE:20180411
DTEND;VALUE=DATE:20180412
DTSTAMP:20180224T100852
CREATED:20180220T102543Z
LAST-MODIFIED:20180220T102649Z
UID:2747-1523404800-1523491199@circusineducation.com.au
SUMMARY:Scoot The Juggler At Coolum OSHC
DESCRIPTION:We have a fantastic new show in South East QLD featuring high level juggling and unicycle skills and more! Don’t miss out on the chance to book this coming Easter school holidays! \n
URL:http://circusineducation.com.au/event/scoot-juggler-coolum-oshc/
ATTACH;FMTTYPE=image/jpeg:http://circusineducation.com.au/wp-content/uploads/2018/02/Scoot-tall-uni-4-web.jpg
END:VEVENT
END:VCALENDAR