BEGIN:VCALENDAR
VERSION:2.0
PRODID:-//Circus in Education - ECPv4.6.14.1//NONSGML v1.0//EN
CALSCALE:GREGORIAN
METHOD:PUBLISH
X-WR-CALNAME:Circus in Education
X-ORIGINAL-URL:https://circusineducation.com.au
X-WR-CALDESC:Events for Circus in Education
BEGIN:VEVENT
DTSTART;VALUE=DATE:20181101
DTEND;VALUE=DATE:20190303
DTSTAMP:20190228T103535
CREATED:20190120T085353Z
LAST-MODIFIED:20190120T085904Z
UID:2903-1541030400-1551571199@circusineducation.com.au
SUMMARY:Circus in Education on Tour
DESCRIPTION:Circus in Education is pleased to be touring once again with Newcastle Permanent Bank’s Cinema Under the Stars. This is the fourth year that Circus in Education will be touring to 16 locations throughout NSW delivering our very popular outdoor Circus Play Space workshops. \n
URL:https://circusineducation.com.au/event/circus-education-tour/
ATTACH;FMTTYPE=image/jpeg:https://circusineducation.com.au/wp-content/uploads/2016/05/cinemaunderthestars11.jpg
END:VEVENT
END:VCALENDAR